BEGIN:VCALENDAR
VERSION:2.0
PRODID:-//WP EVENT Manager Ical//NONSGML Events //EN
CALSCALE:GREGORIAN

BEGIN:VEVENT

DTSTART:20210429T090000AMZ
DTEND:20210429T170000PMZ
LOCATION:Online
SUMMARY:Three Queer Pastors
DESCRIPTION:All One Body invited three queer pastors to address the question: What does it look like to have a flourishing church and to share the abundant life? Listen to this presentation and you will be challenged to work with the Spirit toward that abundant life. You will also learn how the church has been missing the diverse gifts that can enrich our worship, strengthen our faith, challenge our traditions, and reveal new paths of kingdom of service. Participants: Nicholas Hopkins, Bethany Winn, & Ricardo Tavarez. View the video here.


END:VEVENT
END:VCALENDAR
    