BEGIN:VCALENDAR
VERSION:2.0
PRODID:-//WP EVENT Manager Ical//NONSGML Events //EN
CALSCALE:GREGORIAN

BEGIN:VEVENT

DTSTART:20220927T090000AMZ
DTEND:20221109T170000PMZ
LOCATION:Online
SUMMARY:Responding to Synod 2022
DESCRIPTION:Following Synod’s decisions regarding confessional status opposing same-sex marriage, we partnered with several pastors to create videos that provide clarity, guidance, and suggestions for pastoral care. Participants: James Lucas, Bethany Winn, Duane Kelderman, Dave Vroege, & Clayton Libolt. View the videos here.


END:VEVENT
END:VCALENDAR
    