BEGIN:VCALENDAR
VERSION:2.0
PRODID:-//WP EVENT Manager Ical//NONSGML Events //EN
CALSCALE:GREGORIAN

BEGIN:VEVENT

DTSTART:20230612T090000AMZ
DTEND:20230615T170000PMZ
LOCATION:Online
SUMMARY:Bearing Witness at Synod
DESCRIPTION:As we did at Synod 2022, we gathered repeatedly on the lawn at Calvin University to remind delegates to Synod that we saw what they were doing and to remind them that their debates and decisions were not simply about abstract theological ideas but were affecting the lives and faith of real live queer Christians and their allies. Videos of the Synod debates can be found on the CRCNA Synodical website. Warning: You may find these debates distressing!


END:VEVENT
END:VCALENDAR
    